BEGIN:VCALENDAR
VERSION:2.0
PRODID:-//Dunstable Musical Theatre Company - ECPv6.15.18//NONSGML v1.0//EN
CALSCALE:GREGORIAN
METHOD:PUBLISH
X-WR-CALNAME:Dunstable Musical Theatre Company
X-ORIGINAL-URL:https://dunstablemtc.org
X-WR-CALDESC:Events for Dunstable Musical Theatre Company
REFRESH-INTERVAL;VALUE=DURATION:PT1H
X-Robots-Tag:noindex
X-PUBLISHED-TTL:PT1H
BEGIN:VTIMEZONE
TZID:Europe/London
BEGIN:DAYLIGHT
TZOFFSETFROM:+0000
TZOFFSETTO:+0100
TZNAME:BST
DTSTART:20240331T010000
END:DAYLIGHT
BEGIN:STANDARD
TZOFFSETFROM:+0100
TZOFFSETTO:+0000
TZNAME:GMT
DTSTART:20241027T010000
END:STANDARD
BEGIN:DAYLIGHT
TZOFFSETFROM:+0000
TZOFFSETTO:+0100
TZNAME:BST
DTSTART:20250330T010000
END:DAYLIGHT
BEGIN:STANDARD
TZOFFSETFROM:+0100
TZOFFSETTO:+0000
TZNAME:GMT
DTSTART:20251026T010000
END:STANDARD
BEGIN:DAYLIGHT
TZOFFSETFROM:+0000
TZOFFSETTO:+0100
TZNAME:BST
DTSTART:20260329T010000
END:DAYLIGHT
BEGIN:STANDARD
TZOFFSETFROM:+0100
TZOFFSETTO:+0000
TZNAME:GMT
DTSTART:20261025T010000
END:STANDARD
END:VTIMEZONE
BEGIN:VEVENT
DTSTART;TZID=Europe/London:20251207T193000
DTEND;TZID=Europe/London:20251207T213000
DTSTAMP:20260421T190012
CREATED:20251201T204454Z
LAST-MODIFIED:20251201T204458Z
UID:3348-1765135800-1765143000@dunstablemtc.org
SUMMARY:A Very DMTC Christmas
DESCRIPTION:DMTC’s Annual Christmas Concert
URL:https://dunstablemtc.org/event/a-very-dmtc-christmas
LOCATION:Little Theatre\, Dunstable\, High Street South\, Dunstable\, LU6 3SF\, United Kingdom
END:VEVENT
END:VCALENDAR