BEGIN:VCALENDAR
VERSION:2.0
PRODID:-//Dunstable Musical Theatre Company - ECPv6.15.18//NONSGML v1.0//EN
CALSCALE:GREGORIAN
METHOD:PUBLISH
X-ORIGINAL-URL:https://dunstablemtc.org
X-WR-CALDESC:Events for Dunstable Musical Theatre Company
REFRESH-INTERVAL;VALUE=DURATION:PT1H
X-Robots-Tag:noindex
X-PUBLISHED-TTL:PT1H
BEGIN:VTIMEZONE
TZID:Europe/London
BEGIN:DAYLIGHT
TZOFFSETFROM:+0000
TZOFFSETTO:+0100
TZNAME:BST
DTSTART:20240331T010000
END:DAYLIGHT
BEGIN:STANDARD
TZOFFSETFROM:+0100
TZOFFSETTO:+0000
TZNAME:GMT
DTSTART:20241027T010000
END:STANDARD
BEGIN:DAYLIGHT
TZOFFSETFROM:+0000
TZOFFSETTO:+0100
TZNAME:BST
DTSTART:20250330T010000
END:DAYLIGHT
BEGIN:STANDARD
TZOFFSETFROM:+0100
TZOFFSETTO:+0000
TZNAME:GMT
DTSTART:20251026T010000
END:STANDARD
BEGIN:DAYLIGHT
TZOFFSETFROM:+0000
TZOFFSETTO:+0100
TZNAME:BST
DTSTART:20260329T010000
END:DAYLIGHT
BEGIN:STANDARD
TZOFFSETFROM:+0100
TZOFFSETTO:+0000
TZNAME:GMT
DTSTART:20261025T010000
END:STANDARD
END:VTIMEZONE
BEGIN:VEVENT
DTSTART;TZID=Europe/London:20250131T193000
DTEND;TZID=Europe/London:20250131T213000
DTSTAMP:20260422T154950
CREATED:20250127T124527Z
LAST-MODIFIED:20250127T130953Z
UID:3074-1738351800-1738359000@dunstablemtc.org
SUMMARY:Return to The Forbidden Planet Producers Night
DESCRIPTION:Other Key Dates \nProducers Night – 31st Jan \nRehearsals 31st Jan\, 4th & 7th Feb. \nAuditions 11th Feb
URL:https://dunstablemtc.org/event/return-to-the-forbidden-planet-producers-night
LOCATION:Dunstable Young Peoples Centre\, Manchester Place\, Dunstable LU61HT
END:VEVENT
END:VCALENDAR