BEGIN:VCALENDAR
VERSION:2.0
PRODID:-//Dunstable Musical Theatre Company - ECPv6.15.18//NONSGML v1.0//EN
CALSCALE:GREGORIAN
METHOD:PUBLISH
X-ORIGINAL-URL:https://dunstablemtc.org
X-WR-CALDESC:Events for Dunstable Musical Theatre Company
REFRESH-INTERVAL;VALUE=DURATION:PT1H
X-Robots-Tag:noindex
X-PUBLISHED-TTL:PT1H
BEGIN:VTIMEZONE
TZID:Europe/London
BEGIN:DAYLIGHT
TZOFFSETFROM:+0000
TZOFFSETTO:+0100
TZNAME:BST
DTSTART:20230326T010000
END:DAYLIGHT
BEGIN:STANDARD
TZOFFSETFROM:+0100
TZOFFSETTO:+0000
TZNAME:GMT
DTSTART:20231029T010000
END:STANDARD
BEGIN:DAYLIGHT
TZOFFSETFROM:+0000
TZOFFSETTO:+0100
TZNAME:BST
DTSTART:20240331T010000
END:DAYLIGHT
BEGIN:STANDARD
TZOFFSETFROM:+0100
TZOFFSETTO:+0000
TZNAME:GMT
DTSTART:20241027T010000
END:STANDARD
BEGIN:DAYLIGHT
TZOFFSETFROM:+0000
TZOFFSETTO:+0100
TZNAME:BST
DTSTART:20250330T010000
END:DAYLIGHT
BEGIN:STANDARD
TZOFFSETFROM:+0100
TZOFFSETTO:+0000
TZNAME:GMT
DTSTART:20251026T010000
END:STANDARD
END:VTIMEZONE
BEGIN:VEVENT
DTSTART;TZID=Europe/London:20240213T194500
DTEND;TZID=Europe/London:20240213T220000
DTSTAMP:20260423T122327
CREATED:20240124T121854Z
LAST-MODIFIED:20240203T183014Z
UID:2900-1707853500-1707861600@dunstablemtc.org
SUMMARY:Audition Prep Night 1
DESCRIPTION:Prep nights for adults auditions for Joseph and the Amazing Technicolor Dreamcoat. \n\n\n\nAudition Info – Joseph and the Amazing Technicolor Dreamcoat.
URL:https://dunstablemtc.org/event/audition-prep-night-1
LOCATION:Dunstable Young People’s Centre\, Manchester Place\, Dunstable\, LU6 1HT\, United Kingdom
END:VEVENT
BEGIN:VEVENT
DTSTART;TZID=Europe/London:20240216T193000
DTEND;TZID=Europe/London:20240216T210000
DTSTAMP:20260423T122327
CREATED:20240124T130642Z
LAST-MODIFIED:20240203T183150Z
UID:2913-1708111800-1708117200@dunstablemtc.org
SUMMARY:Children's Choir Audition Prep
DESCRIPTION:Prep nights for auditions for the children’s choir – Joseph and the Amazing Technicolor Dreamcoat. \n\n\n\nAudition Info – Joseph and the Amazing Technicolor Dreamcoat.
URL:https://dunstablemtc.org/event/childrens-choir-audition-prep
LOCATION:Dunstable Young People’s Centre\, Manchester Place\, Dunstable\, LU6 1HT\, United Kingdom
END:VEVENT
BEGIN:VEVENT
DTSTART;TZID=Europe/London:20240227T194500
DTEND;TZID=Europe/London:20240227T220000
DTSTAMP:20260423T122327
CREATED:20240124T122251Z
LAST-MODIFIED:20240203T183524Z
UID:2903-1709063100-1709071200@dunstablemtc.org
SUMMARY:Audition Prep Night 2
DESCRIPTION:Prep nights for adults auditions for Joseph and the Amazing Technicolor Dreamcoat. \n\n\n\nAudition Info – Joseph and the Amazing Technicolor Dreamcoat.
URL:https://dunstablemtc.org/event/audition-prep-night-2
LOCATION:Dunstable Young People’s Centre\, Manchester Place\, Dunstable\, LU6 1HT\, United Kingdom
END:VEVENT
END:VCALENDAR