BEGIN:VCALENDAR
VERSION:2.0
PRODID:-//Dunstable Musical Theatre Company - ECPv6.15.18//NONSGML v1.0//EN
CALSCALE:GREGORIAN
METHOD:PUBLISH
X-WR-CALNAME:Dunstable Musical Theatre Company
X-ORIGINAL-URL:https://dunstablemtc.org
X-WR-CALDESC:Events for Dunstable Musical Theatre Company
REFRESH-INTERVAL;VALUE=DURATION:PT1H
X-Robots-Tag:noindex
X-PUBLISHED-TTL:PT1H
BEGIN:VTIMEZONE
TZID:Europe/London
BEGIN:DAYLIGHT
TZOFFSETFROM:+0000
TZOFFSETTO:+0100
TZNAME:BST
DTSTART:20220327T010000
END:DAYLIGHT
BEGIN:STANDARD
TZOFFSETFROM:+0100
TZOFFSETTO:+0000
TZNAME:GMT
DTSTART:20221030T010000
END:STANDARD
BEGIN:DAYLIGHT
TZOFFSETFROM:+0000
TZOFFSETTO:+0100
TZNAME:BST
DTSTART:20230326T010000
END:DAYLIGHT
BEGIN:STANDARD
TZOFFSETFROM:+0100
TZOFFSETTO:+0000
TZNAME:GMT
DTSTART:20231029T010000
END:STANDARD
BEGIN:DAYLIGHT
TZOFFSETFROM:+0000
TZOFFSETTO:+0100
TZNAME:BST
DTSTART:20240331T010000
END:DAYLIGHT
BEGIN:STANDARD
TZOFFSETFROM:+0100
TZOFFSETTO:+0000
TZNAME:GMT
DTSTART:20241027T010000
END:STANDARD
END:VTIMEZONE
BEGIN:VEVENT
DTSTART;TZID=Europe/London:20230524T120000
DTEND;TZID=Europe/London:20230527T120000
DTSTAMP:20260424T044904
CREATED:20221021T132511Z
LAST-MODIFIED:20221021T132513Z
UID:2546-1684929600-1685188800@dunstablemtc.org
SUMMARY:Little Shop of Horrors
DESCRIPTION:Seymour Krelborn is a nerdy orphan working at Mushnik’s\, a flower shop in urban Skid Row. He harbors a crush on fellow co-worker Audrey Fulquard\, and is berated by Mr. Mushnik daily. One day as Seymour is seeking a new mysterious plant\, he finds a very mysterious unidentified plant which he calls Audrey II. The plant seems to have a craving for blood and soon begins to sing for his supper. Soon enough\, Seymour feeds Audrey’s sadistic dentist boyfriend to the plant and later\, Mushnik for witnessing the death of Audrey’s ex. Will Audrey II take over the world or will Seymour and Audrey defeat it?
URL:https://dunstablemtc.org/event/little-shop-of-horrors
END:VEVENT
END:VCALENDAR