BEGIN:VCALENDAR
VERSION:2.0
PRODID:-//Dunstable Musical Theatre Company - ECPv6.15.18//NONSGML v1.0//EN
CALSCALE:GREGORIAN
METHOD:PUBLISH
X-WR-CALNAME:Dunstable Musical Theatre Company
X-ORIGINAL-URL:https://dunstablemtc.org
X-WR-CALDESC:Events for Dunstable Musical Theatre Company
REFRESH-INTERVAL;VALUE=DURATION:PT1H
X-Robots-Tag:noindex
X-PUBLISHED-TTL:PT1H
BEGIN:VTIMEZONE
TZID:Europe/London
BEGIN:DAYLIGHT
TZOFFSETFROM:+0000
TZOFFSETTO:+0100
TZNAME:BST
DTSTART:20160327T010000
END:DAYLIGHT
BEGIN:STANDARD
TZOFFSETFROM:+0100
TZOFFSETTO:+0000
TZNAME:GMT
DTSTART:20161030T010000
END:STANDARD
BEGIN:DAYLIGHT
TZOFFSETFROM:+0000
TZOFFSETTO:+0100
TZNAME:BST
DTSTART:20170326T010000
END:DAYLIGHT
BEGIN:STANDARD
TZOFFSETFROM:+0100
TZOFFSETTO:+0000
TZNAME:GMT
DTSTART:20171029T010000
END:STANDARD
BEGIN:DAYLIGHT
TZOFFSETFROM:+0000
TZOFFSETTO:+0100
TZNAME:BST
DTSTART:20180325T010000
END:DAYLIGHT
BEGIN:STANDARD
TZOFFSETFROM:+0100
TZOFFSETTO:+0000
TZNAME:GMT
DTSTART:20181028T010000
END:STANDARD
END:VTIMEZONE
BEGIN:VEVENT
DTSTART;TZID=Europe/London:20171203T193000
DTEND;TZID=Europe/London:20171203T193000
DTSTAMP:20260423T050838
CREATED:20171117T212618Z
LAST-MODIFIED:20171118T000554Z
UID:64-1512329400-1512329400@dunstablemtc.org
SUMMARY:Welcome Christmas
DESCRIPTION:We are delighted to be back at The Little Theatre for our annual Christmas Concert. \nJoin us for an evening of seasonal music\, carols\, festive readings and a mince pie or two! \nFor more details email daosuk@gmail.com or click below to book your tickets now!
URL:https://dunstablemtc.org/event/welcome-christmas
LOCATION:The Little Theatre\, High Street South\, Dunstable\, LU6 3SF\, United Kingdom
ATTACH;FMTTYPE=image/jpeg:https://dunstablemtc.org/wp-content/uploads/2017/11/22852108_1766576326747788_1037213383134598210_n.jpg
END:VEVENT
END:VCALENDAR